BEGIN:VCALENDAR
VERSION:2.0
PRODID:-//Constructing Excellence | South West - ECPv6.15.18//NONSGML v1.0//EN
CALSCALE:GREGORIAN
METHOD:PUBLISH
X-WR-CALNAME:Constructing Excellence | South West
X-ORIGINAL-URL:https://constructingexcellencesw.org.uk
X-WR-CALDESC:Events for Constructing Excellence | South West
REFRESH-INTERVAL;VALUE=DURATION:PT1H
X-Robots-Tag:noindex
X-PUBLISHED-TTL:PT1H
BEGIN:VTIMEZONE
TZID:Europe/London
BEGIN:DAYLIGHT
TZOFFSETFROM:+0000
TZOFFSETTO:+0100
TZNAME:BST
DTSTART:20250330T010000
END:DAYLIGHT
BEGIN:STANDARD
TZOFFSETFROM:+0100
TZOFFSETTO:+0000
TZNAME:GMT
DTSTART:20251026T010000
END:STANDARD
BEGIN:DAYLIGHT
TZOFFSETFROM:+0000
TZOFFSETTO:+0100
TZNAME:BST
DTSTART:20260329T010000
END:DAYLIGHT
BEGIN:STANDARD
TZOFFSETFROM:+0100
TZOFFSETTO:+0000
TZNAME:GMT
DTSTART:20261025T010000
END:STANDARD
BEGIN:DAYLIGHT
TZOFFSETFROM:+0000
TZOFFSETTO:+0100
TZNAME:BST
DTSTART:20270328T010000
END:DAYLIGHT
BEGIN:STANDARD
TZOFFSETFROM:+0100
TZOFFSETTO:+0000
TZNAME:GMT
DTSTART:20271031T010000
END:STANDARD
END:VTIMEZONE
BEGIN:VEVENT
DTSTART;TZID=Europe/London:20260320T090000
DTEND;TZID=Europe/London:20260320T110000
DTSTAMP:20260422T100035
CREATED:20260223T085532Z
LAST-MODIFIED:20260319T055459Z
UID:10000170-1773997200-1774004400@constructingexcellencesw.org.uk
SUMMARY:G4C Devon Breakfast Event - 20 March 2026
DESCRIPTION:TO ACCESS MEMBER PRICED TICKETS\, PLEASE LOGIN TO YOUR CESW ACCOUNT FIRST THEN PURCHASE TICKETS \nJoin us for our upcoming G4C Breakfast – a relaxed and informal morning of networking with like-minded professionals from across the construction and built environment sector. \nThis event is a great opportunity to expand your network\, strengthen existing relationships\, and connect with both familiar faces and new contacts over coffee and breakfast. Whether you’re an existing G4C member or new to the network\, you’ll be warmly welcomed. \nWe’ll be providing breakfast and refreshments\, giving you the perfect setting to start your day productively while engaging with the next generation of industry leaders. \nSpaces are limited\, so please book early to avoid disappointment. \nTO ACCESS MEMBER PRICED TICKETS\, PLEASE LOGIN TO YOUR CESW ACCOUNT FIRST THEN PURCHASE TICKETS \nWe look forward to seeing you there!
URL:https://constructingexcellencesw.org.uk/event/g4c-devon-breakfast-event-20-march-2026/
LOCATION:Boston Tea Party\, 84 Queen Street\, Exeter EX4 3RP\, United Kingdom
ATTACH;FMTTYPE=image/png:https://constructingexcellencesw.org.uk/wp-content/uploads/2024/10/G4C-Devon-Breakfast.png
END:VEVENT
END:VCALENDAR