BEGIN:VCALENDAR
VERSION:2.0
PRODID:-//Constructing Excellence | South West - ECPv6.15.18//NONSGML v1.0//EN
CALSCALE:GREGORIAN
METHOD:PUBLISH
X-WR-CALNAME:Constructing Excellence | South West
X-ORIGINAL-URL:https://constructingexcellencesw.org.uk
X-WR-CALDESC:Events for Constructing Excellence | South West
REFRESH-INTERVAL;VALUE=DURATION:PT1H
X-Robots-Tag:noindex
X-PUBLISHED-TTL:PT1H
BEGIN:VTIMEZONE
TZID:Europe/London
BEGIN:DAYLIGHT
TZOFFSETFROM:+0000
TZOFFSETTO:+0100
TZNAME:BST
DTSTART:20230326T010000
END:DAYLIGHT
BEGIN:STANDARD
TZOFFSETFROM:+0100
TZOFFSETTO:+0000
TZNAME:GMT
DTSTART:20231029T010000
END:STANDARD
BEGIN:DAYLIGHT
TZOFFSETFROM:+0000
TZOFFSETTO:+0100
TZNAME:BST
DTSTART:20240331T010000
END:DAYLIGHT
BEGIN:STANDARD
TZOFFSETFROM:+0100
TZOFFSETTO:+0000
TZNAME:GMT
DTSTART:20241027T010000
END:STANDARD
BEGIN:DAYLIGHT
TZOFFSETFROM:+0000
TZOFFSETTO:+0100
TZNAME:BST
DTSTART:20250330T010000
END:DAYLIGHT
BEGIN:STANDARD
TZOFFSETFROM:+0100
TZOFFSETTO:+0000
TZNAME:GMT
DTSTART:20251026T010000
END:STANDARD
END:VTIMEZONE
BEGIN:VEVENT
DTSTART;TZID=Europe/London:20241016T093000
DTEND;TZID=Europe/London:20241016T163000
DTSTAMP:20260421T092959
CREATED:20240801T080416Z
LAST-MODIFIED:20241015T133714Z
UID:10000042-1729071000-1729096200@constructingexcellencesw.org.uk
SUMMARY:Cornwall Construction Summit 2024
DESCRIPTION:We at Construction Excellence Cornwall Hub would like to give the opportunity to all sectors of the construction industry in Cornwall to showcase their companies and what they can provide at the first Cornwall Construction Summit.. \nThis event is to highlight firstly what all businesses have to offer but also to hear from clients and what they are looking for\, there will be a Live stage throughout the day where leaders within the industry from small SME suppliers to the Tier 1 contractors and clients like Royal Cornwall Hospital\, Cornwall Council\, Treveth and our two main colleges. There is a maximum limit for attendees so please book quickly to avoid disappointment. \nTwo booking slots are available: \n\n\n9.30am – 1pm\n1pm – 4.30pm \nTickets – £15 members\, £25 non-members G4C – £15 \nTickets booked via the website will enable entry and food/drink vouchers. \n 
URL:https://constructingexcellencesw.org.uk/event/cornwall-construction-summit-2024/
LOCATION:The Barn at Pengelly\, Truro\, TR4 9BG
ATTACH;FMTTYPE=image/png:https://constructingexcellencesw.org.uk/wp-content/uploads/2024/08/Cornwal-C-Summit.png
END:VEVENT
END:VCALENDAR